BEGIN:VCALENDAR
VERSION:2.0
PRODID:-//Squarespace Inc/Squarespace 6//v6//EN
BEGIN:VEVENT
UID:5884833559cc684854b498cd@squarespace.com
DTSTAMP:20170122T100251Z
DTSTART:20170311T230000Z
DTEND:20170312T010000Z
SUMMARY:Sunday Morning Service
END:VEVENT
END:VCALENDAR
