BEGIN:VCALENDAR
VERSION:2.0
PRODID:-//Squarespace Inc/Squarespace 6//v6//EN
BEGIN:VEVENT
UID:5884822e59cc684854b494ea@squarespace.com
DTSTAMP:20170122T095928Z
DTSTART:20170312T070000Z
DTEND:20170312T090000Z
SUMMARY:Sacred Marriage study part #2
GEO:-37.748662;144.716294
LOCATION:1430 Western Highway\, Rockbank\, Victoria\, Australia
END:VEVENT
END:VCALENDAR
