BEGIN:VCALENDAR
VERSION:2.0
PRODID:-//Squarespace Inc/Squarespace 6//v6//EN
BEGIN:VEVENT
UID:58847bb92e69cf6033c5bba9@squarespace.com
DTSTAMP:20170122T093725Z
DTSTART:20170211T230000Z
DTEND:20170212T010000Z
SUMMARY:Sunday Morning Service
END:VEVENT
END:VCALENDAR
