BEGIN:VCALENDAR
VERSION:2.0
PRODID:-//Squarespace Inc/Squarespace 6//v6//EN
BEGIN:VEVENT
UID:561754a4e4b06489ba8b8722@squarespace.com
DTSTAMP:20151009T054634Z
DTSTART:20151010T223000Z
DTEND:20151010T233000Z
SUMMARY:Children's Sunday School
END:VEVENT
END:VCALENDAR
